BEGIN:VCALENDAR
VERSION:2.0
PRODID:DPCALENDAR
CALSCALE:GREGORIAN
X-WR-TIMEZONE:UTC
BEGIN:VEVENT
DTSTART;TZID=UTC:20160615T183000
DTEND;TZID=UTC:20160615T203000
UID:B330CBA3-58DF-4D14-B7D8-1626D551B417
SUMMARY:Incontro di presentazione dell`Amorc
CREATED:20160610T084312Z
DTSTAMP:20160610T084312Z
URL:https://www.amorc.it/incontri-pubblici/incontro-di-presentazione-dell-amorc.html
DESCRIPTION:Per informazioni, pts@amorc.it
X-ALT-DESC;FMTTYPE=text/html:<p>Per informazioni, pts@amorc.it</p>
LAST-MODIFIED:20160610T084447Z
SEQUENCE:95
LOCATION:via Cicerone 2\, 34133 Trieste\, TS
GEO:45.65440200;13.78056100
X-LOCATION-DISPLAYNAME:Sede Trieste
X-ACCESS:1
X-HITS:116
X-COLOR:FFCC33
X-SHOW-END-TIME:1
END:VEVENT
BEGIN:VEVENT
DTSTART;TZID=UTC:20160626T183000
DTEND;TZID=UTC:20160626T213000
UID:062213A5-6FC1-4F6E-81D1-BD1E26C45B5D
SUMMARY:Trieste - Meditazione per la Pace
CREATED:20160528T064035Z
DTSTAMP:20160528T064035Z
URL:https://www.amorc.it/incontri-pubblici/trieste-meditazione-per-la-pace.html
DESCRIPTION:Il 26 giugno 2016 sarà celebrata la "Meditazione sulla Pace" presso il Compendio Demaniale di Zevio.\NAl termine condivideremo tutti insieme in un'Agape fraterna quello che ognuno di noi avrà portato.\NI partecipanti, che saranno i benvenuti, sono attesi alle ore 10.30 presso il giardino sito in via Magazzino Idraulico n. 7, Zevio.\NIn caso di maltempo rincontro si svolgerà presso lo Sede, in via Marsala 16 - Verona\N \NPer informazioni, 347 5968063\Nlvr@amorc.it
X-ALT-DESC;FMTTYPE=text/html:<p>Il 26 giugno 2016 sar&agrave; celebrata la "Meditazione sulla Pace" presso il Compendio Demaniale di Zevio.</p><p>Al termine condivideremo tutti insieme in un'Agape fraterna quello che ognuno di noi avr&agrave; portato.</p><p>I partecipanti, che saranno i benvenuti, sono attesi alle ore 10.30 presso il giardino sito in via Magazzino Idraulico n. 7, Zevio.</p><p>In caso di maltempo rincontro si svolger&agrave; presso lo Sede, in via Marsala 16 - Verona</p><p>&nbsp;</p><p>Per informazioni, 347 5968063</p><p>lvr@amorc.it</p>
LAST-MODIFIED:20160528T064802Z
SEQUENCE:447
LOCATION:via Cicerone 2\, 34133 Trieste\, TS
GEO:45.65440200;13.78056100
X-LOCATION-DISPLAYNAME:Sede Trieste
X-ACCESS:1
X-HITS:841
X-COLOR:6E6EFF
X-SHOW-END-TIME:1
END:VEVENT
BEGIN:VEVENT
DTSTART;TZID=UTC:20170624T170000
DTEND;TZID=UTC:20170624T180000
UID:837D8BD9-F187-48EB-95A0-DFF3A5F0A883
SUMMARY:Trieste - Meditazione per la Pace
CREATED:20160528T064035Z
DTSTAMP:20160528T064035Z
URL:https://www.amorc.it/incontri-pubblici/trieste-meditazione-per-la-pace-2.html
LAST-MODIFIED:20170506T134700Z
SEQUENCE:29660785
LOCATION:via Cicerone 2\, 34133 Trieste\, TS
GEO:45.65440200;13.78056100
X-LOCATION-DISPLAYNAME:Sede Trieste
X-ACCESS:1
X-HITS:41
X-COLOR:6E6EFF
X-SHOW-END-TIME:1
END:VEVENT
BEGIN:VEVENT
DTSTART;TZID=UTC:20170917T170000
DTEND;TZID=UTC:20170917T180000
UID:B8079711-7B10-4499-81B7-E9E350557749
SUMMARY:Trieste - Cerimonia della Commemorazione
CREATED:20160528T064035Z
DTSTAMP:20160528T064035Z
URL:https://www.amorc.it/incontri-pubblici/trieste-cerimonia-della-commemorazione.html
DESCRIPTION:Per informazioni, scrivere a pts@amorc.it
X-ALT-DESC;FMTTYPE=text/html:<p>Per informazioni, scrivere a pts@amorc.it</p>
LAST-MODIFIED:20170506T134700Z
SEQUENCE:29660785
LOCATION:via Cicerone 2\, 34133 Trieste\, TS
GEO:45.65440200;13.78056100
X-LOCATION-DISPLAYNAME:Sede Trieste
X-ACCESS:1
X-HITS:208
X-COLOR:6E6EFF
X-SHOW-END-TIME:1
END:VEVENT
BEGIN:VEVENT
DTSTART;TZID=UTC:20180624T170000
DTEND;TZID=UTC:20180624T180000
UID:CC74EC16-F814-4CC2-8E23-C15275C8F7E1
SUMMARY:Trieste - Meditazione per la Pace
CREATED:20180424T064035Z
DTSTAMP:20180424T064035Z
URL:https://www.amorc.it/incontri-pubblici/trieste-meditazione-per-la-pace-3.html
LAST-MODIFIED:20180424T125106Z
SEQUENCE:22231
LOCATION:via Cicerone 2\, 34133 Trieste\, TS
GEO:45.65440200;13.78056100
X-LOCATION-DISPLAYNAME:Sede Trieste
X-ACCESS:1
X-HITS:81
X-COLOR:6E6EFF
X-SHOW-END-TIME:1
END:VEVENT
BEGIN:VEVENT
DTSTART;TZID=UTC:20180923T180000
DTEND;TZID=UTC:20180923T190000
UID:6E384638-E068-42A4-A04C-DFC39C2BBD17
SUMMARY:Trieste - Cerimonia della Commemorazione
CREATED:20180424T064035Z
DTSTAMP:20180424T064035Z
URL:https://www.amorc.it/incontri-pubblici/trieste-cerimonia-della-commemorazione-2.html
DESCRIPTION:Per informazioni, scrivere a pts@amorc.it
X-ALT-DESC;FMTTYPE=text/html:<p>Per informazioni, scrivere a <a href="mailto:pts@amorc.it">pts@amorc.it</a></p>
LAST-MODIFIED:20180916T181535Z
SEQUENCE:12569700
LOCATION:via Cicerone 2\, 34133 Trieste\, TS
GEO:45.65440200;13.78056100
X-LOCATION-DISPLAYNAME:Sede Trieste
X-ACCESS:1
X-HITS:201
X-COLOR:6E6EFF
X-SHOW-END-TIME:1
END:VEVENT
BEGIN:VEVENT
DTSTART;TZID=UTC:20181201T180000
DTEND;TZID=UTC:20181201T190000
UID:9854E49A-F3B3-4CB4-953A-1E6BBB420832
SUMMARY:Trieste - Conferenza pubblica "L'Ordine della Rosa-Croce: una via di conoscenza spirituale"
CREATED:20180914T113139Z
DTSTAMP:20180914T113139Z
URL:https://www.amorc.it/incontri-pubblici/trieste-convocazione-di-pronaos-2-1553715001.html
DESCRIPTION:La Conferenza pubblica si terrà presso la Libreria “Minerva” - Via S. Nicolò, 20 - Trieste, con la visita ufficiale del Gran Maestro.\NPer maggiori informazioni scrivere all'indirizzo mail: pronaos.trieste@amorc.it
X-ALT-DESC;FMTTYPE=text/html:<p>La Conferenza pubblica si terrà presso la&nbsp;<a href="https://goo.gl/maps/iZqkUXvtkoD2" target="_blank" rel="noopener">Libreria “Minerva” - Via S. Nicolò, 20 - Trieste</a>,&nbsp;con la visita ufficiale del Gran Maestro.</p><p><strong>Per maggiori informazioni scrivere all'indirizzo mail:&nbsp;</strong><a href="mailto:pronaos.trieste@amorc.it">pronaos.trieste@amorc.it</a></p>
LAST-MODIFIED:20181128T231002Z
SEQUENCE:6521903
LOCATION:Via S. Niccolò 20\, 34121 Trieste\, Trieste
GEO:45.65062500;13.77195500
X-LOCATION-DISPLAYNAME:c/o Libreria "Minerva"
X-ACCESS:1
X-HITS:62
X-COLOR:99ccff
X-IMAGE-FULL:https://www.amorc.it/images/eventi/2018-12-01_locandina_conferenza_pubblica.jpg
X-IMAGE-INTRO:https://www.amorc.it/images/eventi/2018-12-01_locandina_conferenza_pubblica.jpg
X-SHOW-END-TIME:1
END:VEVENT
BEGIN:VEVENT
DTSTART;TZID=UTC:20190623T180000
DTEND;TZID=UTC:20190623T190000
UID:B5A1DF4E-C3AB-4EF7-9A80-83AF069A64F9
SUMMARY:Trieste - Meditazione per la Pace
CREATED:20190327T201248Z
DTSTAMP:20190327T201248Z
URL:https://www.amorc.it/incontri-pubblici/trieste-meditazione-per-la-pace-4.html
DESCRIPTION:Ogni anno i Rosacrociani partecipano alla Meditazione per la Pace, che si svolge nella quarta domenica di giugno. L’incontro è aperto a tutti e per parteciparvi è sufficiente contattare l’Organismo Affiliato più vicino. Diceva Spinoza: "La pace non è assenza di guerra: è una virtù, uno stato d'animo, una disposizione alla benevolenza, alla fiducia, alla giustizia". Quale frase migliore per motivarci a partecipare a questa attività? Poiché è una condizione interiore, stare insieme a parlare di argomenti interessanti, di esperienze positive, di piacevoli storie lette o ascoltate favorisce l’attività cerebrale verso il bello, il giusto, l’utile, la pace. In questa giornata dedichiamo le nostre parole e i nostri pensieri a tutto ciò che di meraviglioso circonda la nostra vita.\NQuesta importante Cerimonia Rosacrociana, ha lo scopo di promuovere e contribuire alla Pace.La Cerimonia include una riflessione sui fattori che conducono alla guerra ed alla violenza, e sui modi attraverso i quali ciascuno di noi può contribuire alla Pace.Si conclude con una splendida meditazione collettiva che, attraverso il potere creatore del pensiero, mette in moto energie positive al servizio della Pace.Al termine della Meditazione, per chi vorrà, vi sarà la possibilità di intrattenersi con i membri dell'Ordine, i Rosacrociani, per ricevere informazioni ed un opuscolo riguardante l'A.M.O.R.C., il percorso di studi che offre e le attività che svolge al servizio dell'umanità.\NL'evento si terrà alle ore 18.00 a Trieste (TS)presso sig.ra Maria BossaStrada del Friuli, 335/333\NUlteriori informazioni scrivendo all’indirizzo e-mail pts@amorc.it 
X-ALT-DESC;FMTTYPE=text/html:<p>Ogni anno i Rosacrociani partecipano alla Meditazione per la Pace, che si svolge nella quarta domenica di giugno. L’incontro è aperto a tutti e per parteciparvi è sufficiente contattare l’Organismo Affiliato più vicino. Diceva Spinoza: "La pace non è assenza di guerra: è una virtù, uno stato d'animo, una disposizione alla benevolenza, alla fiducia, alla giustizia". Quale frase migliore per motivarci a partecipare a questa attività? Poiché è una condizione interiore, stare insieme a parlare di argomenti interessanti, di esperienze positive, di piacevoli storie lette o ascoltate favorisce l’attività cerebrale verso il bello, il giusto, l’utile, la pace. In questa giornata dedichiamo le nostre parole e i nostri pensieri a tutto ciò che di meraviglioso circonda la nostra vita.</p><p>Questa importante Cerimonia Rosacrociana, ha lo scopo di promuovere e contribuire alla Pace.<br />La Cerimonia include una riflessione sui fattori che conducono alla guerra ed alla violenza, e sui modi attraverso i quali ciascuno di noi può contribuire alla Pace.<br />Si conclude con una splendida meditazione collettiva che, attraverso il potere creatore del pensiero, mette in moto energie positive al servizio della Pace.<br />Al termine della Meditazione, per chi vorrà, vi sarà la possibilità di intrattenersi con i membri dell'Ordine, i Rosacrociani, per ricevere informazioni ed un opuscolo riguardante l'A.M.O.R.C., il percorso di studi che offre e le attività che svolge al servizio dell'umanità.</p><p>L'evento si terrà alle ore 18.00 a Trieste (TS)<br />presso sig.ra Maria Bossa<br /><a href="https://goo.gl/maps/S5idULASBv31XM6fA" target="_blank" rel="noopener">Strada del Friuli, 335/333</a></p><p>Ulteriori informazioni scrivendo all’indirizzo e-mail <a href="mailto:pts@amorc.it">pts@amorc.it</a>&nbsp;</p>
LAST-MODIFIED:20190609T144234Z
SEQUENCE:6373786
X-ACCESS:1
X-HITS:196
X-COLOR:8d8fc0
X-SHOW-END-TIME:1
END:VEVENT
BEGIN:VEVENT
DTSTART;TZID=UTC:20190922T180000
DTEND;TZID=UTC:20190922T193000
UID:E491433D-BC28-4B05-ABDE-E7E89E7E3AA8
SUMMARY:Trieste - Cerimonia della Commemorazione
CREATED:20190327T201504Z
DTSTAMP:20190327T201504Z
URL:https://www.amorc.it/incontri-pubblici/trieste-cerimonia-della-commemorazione-3.html
DESCRIPTION:L'equinozio d'autunno è tradizionalmente associato alla raccolta di quei frutti spirituali che hanno espresso il loro massimo fulgore nel precedente periodo simbolico estivo.\NOgni anno, in prossimità dell’equinozio d’autunno, i rosacrociani  ravvivano il ricordo dei tempi passati celebrando un’importante Cerimonia in onore di tutti quegli iniziati che hanno dedicato la propria vita a portare avanti gli insegnamenti e le tradizioni dei Rosacroce nei secoli, ricordando le origini delle Scuole di Mistero e l’importanza della Tradizione Mistica.\NLa Cerimonia della Commemorazione si terrà presso il Pronaos Ermete in via Cicerone n. 2 a Trieste.\NPer maggiori informazioni contattare la sede al seguente indirizzo e-mail: pts@amorc.it
X-ALT-DESC;FMTTYPE=text/html:<p>L'equinozio d'autunno è tradizionalmente associato alla raccolta di quei frutti spirituali che hanno espresso il loro massimo fulgore nel precedente periodo simbolico estivo.</p><p>Ogni anno, in prossimità dell’equinozio d’autunno, i rosacrociani &nbsp;ravvivano il ricordo dei tempi passati celebrando un’importante Cerimonia in onore di tutti quegli iniziati che hanno dedicato la propria vita a portare avanti gli insegnamenti e le tradizioni dei Rosacroce nei secoli, ricordando le origini delle Scuole di Mistero e l’importanza della Tradizione Mistica.</p><p>La Cerimonia della Commemorazione si terrà presso il<a href="https://goo.gl/maps/BC3yASn4pfkw5trdA" target="_blank" rel="noopener"> Pronaos Ermete in via Cicerone n. 2 a Trieste</a>.</p><p>Per maggiori informazioni contattare la sede al seguente indirizzo e-mail<b>:</b>&nbsp;<a href="mailto:pts@amorc.it">pts@amorc.it</a></p>
LAST-MODIFIED:20190904T123643Z
SEQUENCE:13882899
LOCATION:via Cicerone 2\, 34133 Trieste\, TS
GEO:45.65440200;13.78056100
X-LOCATION-DISPLAYNAME:Sede Trieste
X-ACCESS:1
X-HITS:142
X-COLOR:8d8fc0
X-SHOW-END-TIME:0
END:VEVENT
BEGIN:VEVENT
DTSTART;TZID=UTC:20210627T180000
DTEND;TZID=UTC:20210627T200000
UID:0849F72A-1807-49CE-8603-EB700494D49F
SUMMARY:Trieste - Meditazione per la Pace
CREATED:20210611T130759Z
DTSTAMP:20210611T130759Z
URL:https://www.amorc.it/incontri-pubblici/trieste-meditazione-per-la-pace-5.html
DESCRIPTION:La Meditazione per la Pace si terrà domenica 27 giugno 2021 ore 18.00 presso Strada del Friuli n. 335/333 Trieste (TS). Seguirà un forum di condivisione dell’esperienza\Ne un piccolo rinfresco.\NSi prega di confermare la propria partecipazione scrivendo a pts@amorc.it\NL’incontro si svolgerà nel rispetto di tutte le prescrizioni sanitarie previste dalla normativa vigente
X-ALT-DESC;FMTTYPE=text/html:<p>La Meditazione per la Pace si terrà domenica 27 giugno 2021 ore 18.00 presso&nbsp;Strada del Friuli n. 335/333&nbsp;Trieste (TS). Seguirà un forum di condivisione dell’esperienza</p><p>e un piccolo rinfresco.</p><p>Si prega di confermare la propria partecipazione scrivendo a <a href="mailto:pts@amorc.it">pts@amorc.it</a></p><p>L’incontro si svolgerà nel rispetto di tutte le prescrizioni sanitarie previste dalla normativa vigente</p>
LAST-MODIFIED:20210614T160146Z
SEQUENCE:269627
X-ACCESS:1
X-HITS:37
X-COLOR:8d8fc0
X-SHOW-END-TIME:0
END:VEVENT
BEGIN:VEVENT
DTSTART;TZID=UTC:20220626T173000
DTEND;TZID=UTC:20220626T183000
UID:78C07D7B-F2A8-4343-A492-769EEE8214B2
SUMMARY:Trieste - Meditazione per la Pace
CREATED:20220623T074203Z
DTSTAMP:20220623T074203Z
URL:https://www.amorc.it/incontri-pubblici/trieste-meditazione-per-la-pace-6.html
DESCRIPTION:Questa importante Cerimonia, ha lo scopo di promuovere e contribuire alla Pace.\NContattare la sede scrivendo a pts@amorc.it per maggiori informazioni.
X-ALT-DESC;FMTTYPE=text/html:<p><span style="font-family: 'book antiqua', palatino; font-size: 14pt; color: #003366;">Questa importante Cerimonia, ha lo scopo di promuovere e contribuire alla Pace.</span></p><p><span style="font-family: 'book antiqua', palatino; font-size: 14pt; color: #003366;">Contattare la sede scrivendo a&nbsp;<a href="mailto:pte@amorc.it" style="color: #003366;"></a><a href="mailto:pte@amorc.it" style="color: #003366;">pts@amorc.it</a>&nbsp;per maggiori informazioni.</span></p>
LAST-MODIFIED:20220623T074252Z
SEQUENCE:49
X-ACCESS:1
X-HITS:4
X-COLOR:8d8fc0
X-SHOW-END-TIME:1
END:VEVENT
BEGIN:VEVENT
DTSTART;TZID=UTC:20220925T173000
DTEND;TZID=UTC:20220925T183000
UID:C5CC2DF1-A98E-4A9C-8A8C-A93AB86FEFF9
SUMMARY:Trieste - Cerimonia della Commemorazione
CREATED:20220912T193116Z
DTSTAMP:20220912T193116Z
URL:https://www.amorc.it/incontri-pubblici/trieste-cerimonia-della-commemorazione-4.html
DESCRIPTION:Per maggiorni informazioni e per comunicare la vostra partecipazione contattare la sede all'indirizzo: pts@amorc.it\N 
X-ALT-DESC;FMTTYPE=text/html:<p>Per maggiorni informazioni e per comunicare la vostra partecipazione contattare la sede all'indirizzo: <a href="mailto:pts@amorc.it">pts@amorc.it</a></p><p>&nbsp;</p>
X-ACCESS:1
X-HITS:5
X-COLOR:8d8fc0
X-SHOW-END-TIME:1
END:VEVENT
BEGIN:VEVENT
DTSTART;TZID=UTC:20230625T160000
DTEND;TZID=UTC:20230625T180000
UID:45485376-1847-4A63-BC7E-32FD720F6429
SUMMARY:San Giovanni al Natisone (UD) - Meditazione per la Pace
CREATED:20230408T065350Z
DTSTAMP:20230408T065350Z
URL:https://www.amorc.it/incontri-pubblici/san-giovanni-al-natisone-ud-meditazione-per-la-pace.html
DESCRIPTION:L' incontro aperto anche ai non membri A.M.O.R.C. si svolgerà presso l'abitazione di fr. Nazareno e soror Daniela a San Giovanni al Natisone (UD).\NPer maggiori informazioni, potete inviare una mail al Pronaus di Trieste o un messaggio al 347 1765000. 
X-ALT-DESC;FMTTYPE=text/html:<p>L' incontro aperto anche ai non membri A.M.O.R.C. si svolgerà presso l'abitazione di fr. Nazareno e soror Daniela a San Giovanni al Natisone (UD).</p><p>Per maggiori informazioni, potete inviare una mail al Pronaus di Trieste o un messaggio al 347 1765000.&nbsp;</p>
X-ACCESS:1
X-HITS:18
X-COLOR:8d8fc0
X-SHOW-END-TIME:1
END:VEVENT
BEGIN:VEVENT
DTSTART;TZID=UTC:20230930T180000
DTEND;TZID=UTC:20230930T200000
UID:7FBE680B-CCD4-4CC8-833C-683E874EE5FE
SUMMARY:TRIESTE - Cerimonia della Commemorazione
CREATED:20230823T091802Z
DTSTAMP:20230823T091802Z
URL:https://www.amorc.it/incontri-pubblici/trieste-cerimonia-della-commemorazione-5.html
DESCRIPTION:La Cerimonia della Commemorazione, aperta a tutti, si terrà presso il giardino di Soror Maria in Strada del Friuli a Trieste.\NAl termine della cerimonia, per chi vorrà, vi sarà la possibilità di intrattenersi con i membri dell'Ordine in un' Agape Fraterna, per una chiacchierata o un semplice scambio d'idee.\NPer maggiori informazioni scrivere a: pts@amorc.it
X-ALT-DESC;FMTTYPE=text/html:<p>La Cerimonia della Commemorazione, aperta a tutti, si terrà presso il giardino di Soror Maria in Strada del Friuli a Trieste.</p><p>Al termine della cerimonia, per chi vorrà, vi sarà la possibilità di intrattenersi con i membri dell'Ordine in un' Agape Fraterna, per una chiacchierata o un semplice scambio d'idee.</p><p>Per maggiori informazioni scrivere a: <a href="mailto:pts@amorc.it">pts@amorc.it</a></p>
X-ACCESS:1
X-HITS:13
X-COLOR:8d8fc0
X-SHOW-END-TIME:1
END:VEVENT
END:VCALENDAR