BEGIN:VCALENDAR
VERSION:2.0
PRODID:DPCALENDAR
CALSCALE:GREGORIAN
X-WR-TIMEZONE:UTC
BEGIN:VEVENT
DTSTART;TZID=UTC:20190209T170000
DTEND;TZID=UTC:20190209T190000
UID:CD7D1794-BBE5-4668-B88B-5AA92E13C206
SUMMARY:Fermo - Conferenza pubblica "I Rosa-Croce tolgono il velo"
CREATED:20190201T113139Z
DTSTAMP:20190201T113139Z
URL:https://www.amorc.it/incontri-pubblici/fermo-conferenza-pubblica-i-rosa-croce-tolgono-il-velo.html
DESCRIPTION:La Conferenza pubblica si terrà a Porto Sant’Elpidio (FM) presso la sala conferenze di Villa Baruchello in Via Romagna, con la visita ufficiale del Gran Maestro.\NPer maggiori informazioni scrivere all'indirizzo mail: atrium.fermo@amorc.it
X-ALT-DESC;FMTTYPE=text/html:<p>La Conferenza pubblica si terrà a Porto Sant’Elpidio (FM) presso&nbsp;la <a href="https://goo.gl/maps/z8fSYzyFPRE2" target="_blank" rel="noopener">sala conferenze di Villa&nbsp;Baruchello in Via Romagna</a>,&nbsp;con la visita ufficiale del Gran Maestro.</p><p><strong>Per maggiori informazioni scrivere all'indirizzo mail: <a href="mailto:atrium.fermo@amorc.it">atrium.fermo@amorc.it</a></strong></p>
LAST-MODIFIED:20190202T190943Z
SEQUENCE:113884
LOCATION:via Romagna 1\, 63018 Porto Sant'Elpidio\, provincia di Fermo
GEO:43.26579700;13.75078300
X-LOCATION-DISPLAYNAME:c/o la sala conferenze di Villa Baruchello in Via Romagna
X-ACCESS:1
X-HITS:156
X-COLOR:e6b800
X-IMAGE-FULL:https://www.amorc.it/images/eventi/2019_02_09_locandina.JPG
X-IMAGE-INTRO:https://www.amorc.it/images/eventi/2019_02_09_locandina.JPG
X-SHOW-END-TIME:0
END:VEVENT
END:VCALENDAR