BEGIN:VCALENDAR
VERSION:2.0
PRODID:DPCALENDAR
CALSCALE:GREGORIAN
X-WR-TIMEZONE:UTC
BEGIN:VEVENT
DTSTART;TZID=UTC:20200223T094500
DTEND;TZID=UTC:20200223T113000
UID:AE6A75B3-2C56-4DF5-A83E-99857B22B050
SUMMARY:Palermo - Atrium
CREATED:20200207T212332Z
DTSTAMP:20200207T212332Z
URL:https://www.amorc.it/incontri-pubblici/palermo-atrium.html
DESCRIPTION:L'AMORC è un movimento filosofico, iniziatico Tradizionale in cui sono mantenuti vivi i Misteri eterni dell'uomo, della Natura, dell'Universo e di Dio. I suoi insegnamenti sono progressivi e affrontano argomenti dalla complessità crescente. L'Atrium è il primo accesso all'Ordine e vi possono partecipare sia membri sia simpatizzanti che vorrebbero conoscerlo prima di richiederne l'ammissione.\NPer maggiori informazioni scrivere a: apa@amorc.it
X-ALT-DESC;FMTTYPE=text/html:<p>L'AMORC è un movimento filosofico, iniziatico Tradizionale in cui sono mantenuti vivi i Misteri eterni dell'uomo, della Natura, dell'Universo e di Dio. <br />I suoi insegnamenti sono progressivi e affrontano argomenti dalla complessità crescente. <br />L'Atrium è il primo accesso all'Ordine e vi possono partecipare sia membri sia simpatizzanti che vorrebbero conoscerlo prima di richiederne l'ammissione.</p><p>Per maggiori informazioni scrivere a: <a href="mailto:apa@amorc.it">apa@amorc.it</a></p>
LOCATION:Via Leonardo da Vinci 111\, 90145 Palermo\, Palermo
GEO:38.12994220;13.33463730
X-LOCATION-DISPLAYNAME:Sede Palermo - c/o Associazione Culturale Cabalà Binah Belev
X-ACCESS:1
X-HITS:218
X-COLOR:8d8fc0
X-SHOW-END-TIME:1
END:VEVENT
BEGIN:VEVENT
DTSTART;TZID=UTC:20230625T173000
DTEND;TZID=UTC:20230625T193000
UID:8CC3B9B0-48F6-47C4-969D-D41292DF6E0E
SUMMARY:Salerno - Meditazione per la Pace
CREATED:20230622T200147Z
DTSTAMP:20230622T200147Z
URL:https://www.amorc.it/incontri-pubblici/salerno-meditazione-per-la-pace.html
DESCRIPTION:Ogni anno, tutti i Rosacrociani del mondo, in prossimità del solstizio d’estate, partecipano alla Meditazione della Pace.Diceva Spinoza :”La pace non è assenza di guerra: è una virtù, uno stato d’animo, una disposizione alla benevolenza, alla fiducia, alla giustizia”.Ecco perché, in questa giornata, dedicheremo le nostre parole ed i nostri pensieri a tutto ciò che di meraviglioso circonda la nostra vita, per aprirci ad una predisposizione interiore verso il bello, il giusto, l’utile, la pace.L’incontro si svolgerà Domenica 25 giugno alle ore 17.30 presso il “Parco Termale del Tufaro” nel comune di Contursi Terme (Salerno), ed è aperto anche ai non membri simpatizzanti. Per parteciparvi è sufficiente contattare l’Organismo dell’A.M.O.R.C. che organizza l’evento all’indirizzo asa@amorc.it\NAl termine della cerimonia, per chi lo vorrà, vi sarà la possibilità di intrattenersi con i membri dell’Ordine, i Rosacrociani, per una chiacchierata o un semplice scambio di idee.\N 
X-ALT-DESC;FMTTYPE=text/html:<p>Ogni anno, tutti i Rosacrociani del mondo, in prossimità del solstizio d’estate, partecipano alla Meditazione della Pace.<br />Diceva Spinoza :”La pace non è assenza di guerra: è una virtù, uno stato d’animo, una disposizione alla benevolenza, alla fiducia, alla giustizia”.<br />Ecco perché, in questa giornata, dedicheremo le nostre parole ed i nostri pensieri a tutto ciò che di meraviglioso circonda la nostra vita, per aprirci ad una predisposizione interiore verso il bello, il giusto, l’utile, la pace.<br />L’incontro si svolgerà Domenica 25 giugno alle ore 17.30 presso il “Parco Termale del Tufaro” nel comune di Contursi Terme (Salerno), ed è aperto anche ai non membri simpatizzanti. Per parteciparvi è sufficiente contattare l’Organismo dell’A.M.O.R.C. che organizza l’evento all’indirizzo&nbsp;<a href="mailto:asa@amorc.it">asa@amorc.it</a></p><p><br />Al termine della cerimonia, per chi lo vorrà, vi sarà la possibilità di intrattenersi con i membri dell’Ordine, i Rosacrociani, per una chiacchierata o un semplice scambio di idee.</p><p>&nbsp;</p>
X-ACCESS:1
X-HITS:19
X-COLOR:8d8fc0
X-SHOW-END-TIME:1
END:VEVENT
END:VCALENDAR