BEGIN:VCALENDAR
VERSION:2.0
PRODID:DPCALENDAR
CALSCALE:GREGORIAN
X-WR-TIMEZONE:UTC
BEGIN:VEVENT
DTSTART;TZID=UTC:20251218T210000
DTEND;TZID=UTC:20251218T223000
UID:4FEA7BFD-0AFB-4DCC-9F98-6A561D312C4E
SUMMARY:Fermo - riunione di Atrium 
CREATED:20251215T003208Z
DTSTAMP:20251215T003208Z
URL:https://www.amorc.it/incontri-pubblici/fermo-riunione-di-atrium-3.html
DESCRIPTION:L'AMORC è un movimento filosofico, iniziatico Tradizionale in cui sono mantenuti vivi i Misteri eterni dell'uomo, della Natura, dell'Universo e di Dio. I suoi insegnamenti sono progressivi e affrontano argomenti dalla complessità crescente. L'Atrium è il primo accesso all'Ordine e vi possono partecipare sia membri sia simpatizzanti che vorrebbero conoscerlo prima di richiederne l'ammissione.\NPer maggiori informazioni scrivere a afm@amorc.it\N 
X-ALT-DESC;FMTTYPE=text/html:<p>L'AMORC è un movimento filosofico, iniziatico Tradizionale in cui sono mantenuti vivi i Misteri eterni dell'uomo, della Natura, dell'Universo e di Dio. <br />I suoi insegnamenti sono progressivi e affrontano argomenti dalla complessità crescente. <br />L'Atrium è il primo accesso all'Ordine e vi possono partecipare sia membri sia simpatizzanti che vorrebbero conoscerlo prima di richiederne l'ammissione.</p><p>Per maggiori informazioni scrivere a <a href="mailto:afm@amorc.it">afm@amorc.it</a></p><p> </p>
LAST-MODIFIED:20251215T003208Z
SEQUENCE:0
X-ACCESS:1
X-HITS:15
X-COLOR:8d8fc0
X-SHOW-END-TIME:1
END:VEVENT
BEGIN:VEVENT
DTSTART;TZID=UTC:20260116T210000
DTEND;TZID=UTC:20260116T223000
UID:658AAB9C-5870-41AC-B0F5-E7BE9803C303
SUMMARY:Fermo - riunione di Atrium 
CREATED:20251215T005731Z
DTSTAMP:20251215T005731Z
URL:https://www.amorc.it/incontri-pubblici/fermo-riunione-di-atrium-2.html
DESCRIPTION:L'AMORC è un movimento filosofico, iniziatico Tradizionale in cui sono mantenuti vivi i Misteri eterni dell'uomo, della Natura, dell'Universo e di Dio. I suoi insegnamenti sono progressivi e affrontano argomenti dalla complessità crescente. L'Atrium è il primo accesso all'Ordine e vi possono partecipare sia membri sia simpatizzanti che vorrebbero conoscerlo prima di richiederne l'ammissione.\NPer maggiori informazioni scrivere a afm@amorc.it\N 
X-ALT-DESC;FMTTYPE=text/html:<p>L'AMORC è un movimento filosofico, iniziatico Tradizionale in cui sono mantenuti vivi i Misteri eterni dell'uomo, della Natura, dell'Universo e di Dio. <br />I suoi insegnamenti sono progressivi e affrontano argomenti dalla complessità crescente. <br />L'Atrium è il primo accesso all'Ordine e vi possono partecipare sia membri sia simpatizzanti che vorrebbero conoscerlo prima di richiederne l'ammissione.</p><p>Per maggiori informazioni scrivere a <a href="mailto:afm@amorc.it">afm@amorc.it</a></p><p> </p>
LAST-MODIFIED:20251215T005731Z
SEQUENCE:0
X-ACCESS:1
X-HITS:40
X-COLOR:8d8fc0
X-SHOW-END-TIME:1
END:VEVENT
BEGIN:VEVENT
DTSTART;TZID=UTC:20260220T210000
DTEND;TZID=UTC:20260220T223000
UID:9D0840CE-5F25-4BDB-A971-E33811B585F5
SUMMARY:Fermo - riunione di Atrium 
CREATED:20251215T005739Z
DTSTAMP:20251215T005739Z
URL:https://www.amorc.it/incontri-pubblici/fermo-riunione-di-atrium-4.html
DESCRIPTION:L'AMORC è un movimento filosofico, iniziatico Tradizionale in cui sono mantenuti vivi i Misteri eterni dell'uomo, della Natura, dell'Universo e di Dio. I suoi insegnamenti sono progressivi e affrontano argomenti dalla complessità crescente. L'Atrium è il primo accesso all'Ordine e vi possono partecipare sia membri sia simpatizzanti che vorrebbero conoscerlo prima di richiederne l'ammissione.\NPer maggiori informazioni scrivere a afm@amorc.it\N 
X-ALT-DESC;FMTTYPE=text/html:<p>L'AMORC è un movimento filosofico, iniziatico Tradizionale in cui sono mantenuti vivi i Misteri eterni dell'uomo, della Natura, dell'Universo e di Dio. <br />I suoi insegnamenti sono progressivi e affrontano argomenti dalla complessità crescente. <br />L'Atrium è il primo accesso all'Ordine e vi possono partecipare sia membri sia simpatizzanti che vorrebbero conoscerlo prima di richiederne l'ammissione.</p><p>Per maggiori informazioni scrivere a <a href="mailto:afm@amorc.it">afm@amorc.it</a></p><p> </p>
LAST-MODIFIED:20251215T005811Z
SEQUENCE:32
X-ACCESS:1
X-HITS:28
X-COLOR:8d8fc0
X-SHOW-END-TIME:1
END:VEVENT
BEGIN:VEVENT
DTSTART;TZID=UTC:20260320T210000
DTEND;TZID=UTC:20260320T223000
UID:7CE933A4-AA8D-498E-87D1-9DD25EC5F557
SUMMARY:Fermo - riunione di Atrium
CREATED:20260224T112702Z
DTSTAMP:20260224T112702Z
URL:https://www.amorc.it/incontri-pubblici/fermo-riunione-di-atrium-7.html
DESCRIPTION:L'AMORC è un movimento filosofico, iniziatico Tradizionale in cui sono mantenuti vivi i Misteri eterni dell'uomo, della Natura, dell'Universo e di Dio. I suoi insegnamenti sono progressivi e affrontano argomenti dalla complessità crescente. L'Atrium è il primo accesso all'Ordine e vi possono partecipare sia membri sia simpatizzanti che vorrebbero conoscerlo prima di richiederne l'ammissione.\NPer maggiori informazioni scrivere a afm@amorc.it\N 
X-ALT-DESC;FMTTYPE=text/html:<p>L'AMORC è un movimento filosofico, iniziatico Tradizionale in cui sono mantenuti vivi i Misteri eterni dell'uomo, della Natura, dell'Universo e di Dio. <br />I suoi insegnamenti sono progressivi e affrontano argomenti dalla complessità crescente. <br />L'Atrium è il primo accesso all'Ordine e vi possono partecipare sia membri sia simpatizzanti che vorrebbero conoscerlo prima di richiederne l'ammissione.</p><p>Per maggiori informazioni scrivere a <a href="mailto:afm@amorc.it">afm@amorc.it</a></p><p> </p>
LAST-MODIFIED:20260224T112702Z
SEQUENCE:0
X-ACCESS:1
X-HITS:33
X-COLOR:8d8fc0
X-SHOW-END-TIME:1
END:VEVENT
BEGIN:VEVENT
DTSTART;TZID=UTC:20260418T210000
DTEND;TZID=UTC:20260418T223000
UID:1870E478-7D2C-4E1B-A11D-E64605D10BDC
SUMMARY:Fermo - riunione di Atrium
CREATED:20260224T111938Z
DTSTAMP:20260224T111938Z
URL:https://www.amorc.it/incontri-pubblici/fermo-riunione-di-atrium-6.html
DESCRIPTION:L'AMORC è un movimento filosofico, iniziatico Tradizionale in cui sono mantenuti vivi i Misteri eterni dell'uomo, della Natura, dell'Universo e di Dio. I suoi insegnamenti sono progressivi e affrontano argomenti dalla complessità crescente. L'Atrium è il primo accesso all'Ordine e vi possono partecipare sia membri sia simpatizzanti che vorrebbero conoscerlo prima di richiederne l'ammissione.\NPer maggiori informazioni scrivere a afm@amorc.it\N 
X-ALT-DESC;FMTTYPE=text/html:<p>L'AMORC è un movimento filosofico, iniziatico Tradizionale in cui sono mantenuti vivi i Misteri eterni dell'uomo, della Natura, dell'Universo e di Dio. <br />I suoi insegnamenti sono progressivi e affrontano argomenti dalla complessità crescente. <br />L'Atrium è il primo accesso all'Ordine e vi possono partecipare sia membri sia simpatizzanti che vorrebbero conoscerlo prima di richiederne l'ammissione.</p><p>Per maggiori informazioni scrivere a <a href="mailto:afm@amorc.it">afm@amorc.it</a></p><p> </p>
LAST-MODIFIED:20260411T205132Z
SEQUENCE:4008714
X-ACCESS:1
X-HITS:35
X-COLOR:8d8fc0
X-SHOW-END-TIME:1
END:VEVENT
BEGIN:VEVENT
DTSTART;TZID=UTC:20260515T210000
DTEND;TZID=UTC:20260515T223000
UID:6C9BF95A-6DC4-4DEF-9BA4-BC7D87403115
SUMMARY:Fermo - Riunione di Atrium
CREATED:20260224T113205Z
DTSTAMP:20260224T113205Z
URL:https://www.amorc.it/incontri-pubblici/fermo-riunione-di-atrium-9.html
DESCRIPTION:L'AMORC è un movimento filosofico, iniziatico Tradizionale in cui sono mantenuti vivi i Misteri eterni dell'uomo, della Natura, dell'Universo e di Dio. I suoi insegnamenti sono progressivi e affrontano argomenti dalla complessità crescente. L'Atrium è il primo accesso all'Ordine e vi possono partecipare sia membri sia simpatizzanti che vorrebbero conoscerlo prima di richiederne l'ammissione.\NPer maggiori informazioni scrivere a afm@amorc.it\N 
X-ALT-DESC;FMTTYPE=text/html:<p>L'AMORC è un movimento filosofico, iniziatico Tradizionale in cui sono mantenuti vivi i Misteri eterni dell'uomo, della Natura, dell'Universo e di Dio. <br />I suoi insegnamenti sono progressivi e affrontano argomenti dalla complessità crescente. <br />L'Atrium è il primo accesso all'Ordine e vi possono partecipare sia membri sia simpatizzanti che vorrebbero conoscerlo prima di richiederne l'ammissione.</p><p>Per maggiori informazioni scrivere a <a href="mailto:afm@amorc.it">afm@amorc.it</a></p><p> </p>
LAST-MODIFIED:20260421T211856Z
SEQUENCE:4873611
LOCATION:Viale Vittorio Veneto\, 63900 Fermo\, Marche\, Italia
GEO:43.15989250;13.71764980
X-LOCATION-DISPLAYNAME:Hotel Astoria
X-ACCESS:1
X-HITS:23
X-COLOR:8d8fc0
X-SHOW-END-TIME:1
END:VEVENT
BEGIN:VEVENT
DTSTART;TZID=UTC:20260606T170000
DTEND;TZID=UTC:20260606T183000
UID:81382718-6F74-437A-AA10-D01820C484D4
SUMMARY:Fermo - Conferenza pubblica: Un'avventura tra i Rosa-Croce
CREATED:20260421T213519Z
DTSTAMP:20260421T213519Z
URL:https://www.amorc.it/incontri-pubblici/fermo-conferenza-pubblica-unavventura-tra-i-rosa-croce.html
DESCRIPTION:Riflessioni di uno studente rosacrocianoRelatore: Marco Paolinipresso sala Hotel Astoria, Viale Vittorio Veneto, 8 - Fermoingresso liberoL'AMORC è un movimento filosofico, iniziatico Tradizionale in cui sono mantenuti vivi i Misteri eterni dell'uomo, della Natura, dell'Universo e di Dio. I suoi insegnamenti sono progressivi e affrontano argomenti dalla complessità crescente.Attualmente i membri residenti nelle Marche si riuniscono in Atrium, che è il primo accesso all'Ordine, e vi possono partecipare anche i simpatizzanti che vorrebbero conoscerlo, prima di richiederne l'ammissione.\NPer maggiori informazioni scrivere a afm@amorc.it\N 
X-ALT-DESC;FMTTYPE=text/html:<p>Riflessioni di uno studente rosacrociano<br />Relatore: Marco Paolini<br />presso sala Hotel Astoria, Viale Vittorio Veneto, 8 - Fermo<br />ingresso libero<br /><br />L'AMORC è un movimento filosofico, iniziatico Tradizionale in cui sono mantenuti vivi i Misteri eterni dell'uomo, della Natura, dell'Universo e di Dio. I suoi insegnamenti sono progressivi e affrontano argomenti dalla complessità crescente.<br /><br />Attualmente i membri residenti nelle Marche si riuniscono in Atrium, che è il primo accesso all'Ordine, e vi possono partecipare anche i simpatizzanti che vorrebbero conoscerlo, prima di richiederne l'ammissione.</p><p>Per maggiori informazioni scrivere a <a href="mailto:afm@amorc.it">afm@amorc.it</a></p><p> </p>
LAST-MODIFIED:20260421T215432Z
SEQUENCE:1153
LOCATION:Viale Vittorio Veneto\, 63900 Fermo\, Marche\, Italia
GEO:43.15989250;13.71764980
X-LOCATION-DISPLAYNAME:Hotel Astoria
X-ACCESS:1
X-HITS:14
X-COLOR:8d8fc0
X-SHOW-END-TIME:1
END:VEVENT
BEGIN:VEVENT
DTSTART;TZID=UTC:20260717T210000
DTEND;TZID=UTC:20260717T223000
UID:84969C65-DC1D-49CD-9AB3-14BDB367B97A
SUMMARY:Fermo - riunione di Atrium
CREATED:20260224T120913Z
DTSTAMP:20260224T120913Z
URL:https://www.amorc.it/incontri-pubblici/fermo-riunione-di-atrium-10.html
DESCRIPTION:L'AMORC è un movimento filosofico, iniziatico Tradizionale in cui sono mantenuti vivi i Misteri eterni dell'uomo, della Natura, dell'Universo e di Dio. I suoi insegnamenti sono progressivi e affrontano argomenti dalla complessità crescente. L'Atrium è il primo accesso all'Ordine e vi possono partecipare sia membri sia simpatizzanti che vorrebbero conoscerlo prima di richiederne l'ammissione.\NPer maggiori informazioni scrivere a afm@amorc.it\N 
X-ALT-DESC;FMTTYPE=text/html:<p>L'AMORC è un movimento filosofico, iniziatico Tradizionale in cui sono mantenuti vivi i Misteri eterni dell'uomo, della Natura, dell'Universo e di Dio. <br />I suoi insegnamenti sono progressivi e affrontano argomenti dalla complessità crescente. <br />L'Atrium è il primo accesso all'Ordine e vi possono partecipare sia membri sia simpatizzanti che vorrebbero conoscerlo prima di richiederne l'ammissione.</p><p>Per maggiori informazioni scrivere a <a href="mailto:afm@amorc.it">afm@amorc.it</a></p><p> </p>
LAST-MODIFIED:20260224T120913Z
SEQUENCE:0
X-ACCESS:1
X-HITS:9
X-COLOR:8d8fc0
X-SHOW-END-TIME:1
END:VEVENT
BEGIN:VEVENT
DTSTART;TZID=UTC:20260918T210000
DTEND;TZID=UTC:20260918T223000
UID:0C635E57-C7FA-49F4-A038-B14A3BB3CB10
SUMMARY:Fermo - Riunione di Atrium
CREATED:20260224T113304Z
DTSTAMP:20260224T113304Z
URL:https://www.amorc.it/incontri-pubblici/fermo-riunione-di-atrium-11.html
DESCRIPTION:L'AMORC è un movimento filosofico, iniziatico Tradizionale in cui sono mantenuti vivi i Misteri eterni dell'uomo, della Natura, dell'Universo e di Dio. I suoi insegnamenti sono progressivi e affrontano argomenti dalla complessità crescente. L'Atrium è il primo accesso all'Ordine e vi possono partecipare sia membri sia simpatizzanti che vorrebbero conoscerlo prima di richiederne l'ammissione.\NPer maggiori informazioni scrivere a afm@amorc.it\N 
X-ALT-DESC;FMTTYPE=text/html:<p>L'AMORC è un movimento filosofico, iniziatico Tradizionale in cui sono mantenuti vivi i Misteri eterni dell'uomo, della Natura, dell'Universo e di Dio. <br />I suoi insegnamenti sono progressivi e affrontano argomenti dalla complessità crescente. <br />L'Atrium è il primo accesso all'Ordine e vi possono partecipare sia membri sia simpatizzanti che vorrebbero conoscerlo prima di richiederne l'ammissione.</p><p>Per maggiori informazioni scrivere a <a href="mailto:afm@amorc.it">afm@amorc.it</a></p><p> </p>
LAST-MODIFIED:20260224T113304Z
SEQUENCE:0
X-ACCESS:1
X-HITS:1
X-COLOR:8d8fc0
X-SHOW-END-TIME:1
END:VEVENT
BEGIN:VEVENT
DTSTART;TZID=UTC:20261016T210000
DTEND;TZID=UTC:20261016T223000
UID:B0E4546A-18FA-4D81-A99A-BC895D3C7989
SUMMARY:Fermo - Riunione di Atrium
CREATED:20260224T113344Z
DTSTAMP:20260224T113344Z
URL:https://www.amorc.it/incontri-pubblici/fermo-riunione-di-atrium-12.html
DESCRIPTION:L'AMORC è un movimento filosofico, iniziatico Tradizionale in cui sono mantenuti vivi i Misteri eterni dell'uomo, della Natura, dell'Universo e di Dio. I suoi insegnamenti sono progressivi e affrontano argomenti dalla complessità crescente. L'Atrium è il primo accesso all'Ordine e vi possono partecipare sia membri sia simpatizzanti che vorrebbero conoscerlo prima di richiederne l'ammissione.\NPer maggiori informazioni scrivere a afm@amorc.it\N 
X-ALT-DESC;FMTTYPE=text/html:<p>L'AMORC è un movimento filosofico, iniziatico Tradizionale in cui sono mantenuti vivi i Misteri eterni dell'uomo, della Natura, dell'Universo e di Dio. <br />I suoi insegnamenti sono progressivi e affrontano argomenti dalla complessità crescente. <br />L'Atrium è il primo accesso all'Ordine e vi possono partecipare sia membri sia simpatizzanti che vorrebbero conoscerlo prima di richiederne l'ammissione.</p><p>Per maggiori informazioni scrivere a <a href="mailto:afm@amorc.it">afm@amorc.it</a></p><p> </p>
LAST-MODIFIED:20260224T113344Z
SEQUENCE:0
X-ACCESS:1
X-HITS:0
X-COLOR:8d8fc0
X-SHOW-END-TIME:1
END:VEVENT
BEGIN:VEVENT
DTSTART;TZID=UTC:20261120T210000
DTEND;TZID=UTC:20261120T223000
UID:55038A40-E907-4231-A456-80894E52A86D
SUMMARY:Fermo - Riunione di Atrium
CREATED:20260224T113411Z
DTSTAMP:20260224T113411Z
URL:https://www.amorc.it/incontri-pubblici/fermo-riunione-di-atrium-13.html
DESCRIPTION:L'AMORC è un movimento filosofico, iniziatico Tradizionale in cui sono mantenuti vivi i Misteri eterni dell'uomo, della Natura, dell'Universo e di Dio. I suoi insegnamenti sono progressivi e affrontano argomenti dalla complessità crescente. L'Atrium è il primo accesso all'Ordine e vi possono partecipare sia membri sia simpatizzanti che vorrebbero conoscerlo prima di richiederne l'ammissione.\NPer maggiori informazioni scrivere a afm@amorc.it\N 
X-ALT-DESC;FMTTYPE=text/html:<p>L'AMORC è un movimento filosofico, iniziatico Tradizionale in cui sono mantenuti vivi i Misteri eterni dell'uomo, della Natura, dell'Universo e di Dio. <br />I suoi insegnamenti sono progressivi e affrontano argomenti dalla complessità crescente. <br />L'Atrium è il primo accesso all'Ordine e vi possono partecipare sia membri sia simpatizzanti che vorrebbero conoscerlo prima di richiederne l'ammissione.</p><p>Per maggiori informazioni scrivere a <a href="mailto:afm@amorc.it">afm@amorc.it</a></p><p> </p>
LAST-MODIFIED:20260224T113411Z
SEQUENCE:0
X-ACCESS:1
X-HITS:0
X-COLOR:8d8fc0
X-SHOW-END-TIME:1
END:VEVENT
BEGIN:VEVENT
DTSTART;TZID=UTC:20261218T210000
DTEND;TZID=UTC:20261218T223000
UID:4605C150-AC90-46E8-9B17-620754A6003D
SUMMARY:Fermo - Riunione di Atrium
CREATED:20260224T113441Z
DTSTAMP:20260224T113441Z
URL:https://www.amorc.it/incontri-pubblici/fermo-riunione-di-atrium-14.html
DESCRIPTION:L'AMORC è un movimento filosofico, iniziatico Tradizionale in cui sono mantenuti vivi i Misteri eterni dell'uomo, della Natura, dell'Universo e di Dio. I suoi insegnamenti sono progressivi e affrontano argomenti dalla complessità crescente. L'Atrium è il primo accesso all'Ordine e vi possono partecipare sia membri sia simpatizzanti che vorrebbero conoscerlo prima di richiederne l'ammissione.\NPer maggiori informazioni scrivere a afm@amorc.it\N 
X-ALT-DESC;FMTTYPE=text/html:<p>L'AMORC è un movimento filosofico, iniziatico Tradizionale in cui sono mantenuti vivi i Misteri eterni dell'uomo, della Natura, dell'Universo e di Dio. <br />I suoi insegnamenti sono progressivi e affrontano argomenti dalla complessità crescente. <br />L'Atrium è il primo accesso all'Ordine e vi possono partecipare sia membri sia simpatizzanti che vorrebbero conoscerlo prima di richiederne l'ammissione.</p><p>Per maggiori informazioni scrivere a <a href="mailto:afm@amorc.it">afm@amorc.it</a></p><p> </p>
LAST-MODIFIED:20260224T113441Z
SEQUENCE:0
X-ACCESS:1
X-HITS:3
X-COLOR:8d8fc0
X-SHOW-END-TIME:1
END:VEVENT
BEGIN:VEVENT
DTSTART;TZID=UTC:20270115T210000
DTEND;TZID=UTC:20270115T223000
UID:D8F40E29-8D78-4268-9482-08EC7BFFE520
SUMMARY:Fermo - riunione di Atrium
CREATED:20260224T121202Z
DTSTAMP:20260224T121202Z
URL:https://www.amorc.it/incontri-pubblici/fermo-riunione-di-atrium-15.html
DESCRIPTION:L'AMORC è un movimento filosofico, iniziatico Tradizionale in cui sono mantenuti vivi i Misteri eterni dell'uomo, della Natura, dell'Universo e di Dio. I suoi insegnamenti sono progressivi e affrontano argomenti dalla complessità crescente. L'Atrium è il primo accesso all'Ordine e vi possono partecipare sia membri sia simpatizzanti che vorrebbero conoscerlo prima di richiederne l'ammissione.\NPer maggiori informazioni scrivere a afm@amorc.it\N 
X-ALT-DESC;FMTTYPE=text/html:<p>L'AMORC è un movimento filosofico, iniziatico Tradizionale in cui sono mantenuti vivi i Misteri eterni dell'uomo, della Natura, dell'Universo e di Dio. <br />I suoi insegnamenti sono progressivi e affrontano argomenti dalla complessità crescente. <br />L'Atrium è il primo accesso all'Ordine e vi possono partecipare sia membri sia simpatizzanti che vorrebbero conoscerlo prima di richiederne l'ammissione.</p><p>Per maggiori informazioni scrivere a <a href="mailto:afm@amorc.it">afm@amorc.it</a></p><p> </p>
LAST-MODIFIED:20260224T121202Z
SEQUENCE:0
X-ACCESS:1
X-HITS:0
X-COLOR:8d8fc0
X-SHOW-END-TIME:1
END:VEVENT
BEGIN:VEVENT
DTSTART;TZID=UTC:20270219T210000
DTEND;TZID=UTC:20270219T223000
UID:43326CDC-5DBC-4000-837A-EEA88313E7B4
SUMMARY:Fermo - riunione di Atrium
CREATED:20260224T121231Z
DTSTAMP:20260224T121231Z
URL:https://www.amorc.it/incontri-pubblici/fermo-riunione-di-atrium-16.html
DESCRIPTION:L'AMORC è un movimento filosofico, iniziatico Tradizionale in cui sono mantenuti vivi i Misteri eterni dell'uomo, della Natura, dell'Universo e di Dio. I suoi insegnamenti sono progressivi e affrontano argomenti dalla complessità crescente. L'Atrium è il primo accesso all'Ordine e vi possono partecipare sia membri sia simpatizzanti che vorrebbero conoscerlo prima di richiederne l'ammissione.\NPer maggiori informazioni scrivere a afm@amorc.it\N 
X-ALT-DESC;FMTTYPE=text/html:<p>L'AMORC è un movimento filosofico, iniziatico Tradizionale in cui sono mantenuti vivi i Misteri eterni dell'uomo, della Natura, dell'Universo e di Dio. <br />I suoi insegnamenti sono progressivi e affrontano argomenti dalla complessità crescente. <br />L'Atrium è il primo accesso all'Ordine e vi possono partecipare sia membri sia simpatizzanti che vorrebbero conoscerlo prima di richiederne l'ammissione.</p><p>Per maggiori informazioni scrivere a <a href="mailto:afm@amorc.it">afm@amorc.it</a></p><p> </p>
LAST-MODIFIED:20260224T121231Z
SEQUENCE:0
X-ACCESS:1
X-HITS:1
X-COLOR:8d8fc0
X-SHOW-END-TIME:1
END:VEVENT
BEGIN:VEVENT
DTSTART;TZID=UTC:20270319T210000
DTEND;TZID=UTC:20270319T223000
UID:6DF0E311-8D0C-4650-BBC8-45A33BEE67B4
SUMMARY:Fermo - riunione di Atrium
CREATED:20260224T121258Z
DTSTAMP:20260224T121258Z
URL:https://www.amorc.it/incontri-pubblici/fermo-riunione-di-atrium-17.html
DESCRIPTION:L'AMORC è un movimento filosofico, iniziatico Tradizionale in cui sono mantenuti vivi i Misteri eterni dell'uomo, della Natura, dell'Universo e di Dio. I suoi insegnamenti sono progressivi e affrontano argomenti dalla complessità crescente. L'Atrium è il primo accesso all'Ordine e vi possono partecipare sia membri sia simpatizzanti che vorrebbero conoscerlo prima di richiederne l'ammissione.\NPer maggiori informazioni scrivere a afm@amorc.it\N 
X-ALT-DESC;FMTTYPE=text/html:<p>L'AMORC è un movimento filosofico, iniziatico Tradizionale in cui sono mantenuti vivi i Misteri eterni dell'uomo, della Natura, dell'Universo e di Dio. <br />I suoi insegnamenti sono progressivi e affrontano argomenti dalla complessità crescente. <br />L'Atrium è il primo accesso all'Ordine e vi possono partecipare sia membri sia simpatizzanti che vorrebbero conoscerlo prima di richiederne l'ammissione.</p><p>Per maggiori informazioni scrivere a <a href="mailto:afm@amorc.it">afm@amorc.it</a></p><p> </p>
LAST-MODIFIED:20260224T121258Z
SEQUENCE:0
X-ACCESS:1
X-HITS:1
X-COLOR:8d8fc0
X-SHOW-END-TIME:1
END:VEVENT
END:VCALENDAR